BEGIN:VCALENDAR
VERSION:2.0
PRODID:-//Blue Bear School of Music - ECPv6.15.20//NONSGML v1.0//EN
CALSCALE:GREGORIAN
METHOD:PUBLISH
X-WR-CALNAME:Blue Bear School of Music
X-ORIGINAL-URL:https://bluebearmusic.org
X-WR-CALDESC:Events for Blue Bear School of Music
REFRESH-INTERVAL;VALUE=DURATION:PT1H
X-Robots-Tag:noindex
X-PUBLISHED-TTL:PT1H
BEGIN:VTIMEZONE
TZID:America/Los_Angeles
BEGIN:DAYLIGHT
TZOFFSETFROM:-0800
TZOFFSETTO:-0700
TZNAME:PDT
DTSTART:20240310T100000
END:DAYLIGHT
BEGIN:STANDARD
TZOFFSETFROM:-0700
TZOFFSETTO:-0800
TZNAME:PST
DTSTART:20241103T090000
END:STANDARD
BEGIN:DAYLIGHT
TZOFFSETFROM:-0800
TZOFFSETTO:-0700
TZNAME:PDT
DTSTART:20250309T100000
END:DAYLIGHT
BEGIN:STANDARD
TZOFFSETFROM:-0700
TZOFFSETTO:-0800
TZNAME:PST
DTSTART:20251102T090000
END:STANDARD
BEGIN:DAYLIGHT
TZOFFSETFROM:-0800
TZOFFSETTO:-0700
TZNAME:PDT
DTSTART:20260308T100000
END:DAYLIGHT
BEGIN:STANDARD
TZOFFSETFROM:-0700
TZOFFSETTO:-0800
TZNAME:PST
DTSTART:20261101T090000
END:STANDARD
END:VTIMEZONE
BEGIN:VEVENT
DTSTART;TZID=America/Los_Angeles:20251221T123000
DTEND;TZID=America/Los_Angeles:20251221T153000
DTSTAMP:20260422T071511
CREATED:20251203T182352Z
LAST-MODIFIED:20251203T182352Z
UID:6796-1766320200-1766331000@bluebearmusic.org
SUMMARY:All Star Band Showcase at Music City
DESCRIPTION:SAT 12/20 \n12:30 pm – Numbskulls \n1:10 pm – Stranger Danger \n1:50 pm – Not Necessarily \n2:30 pm – Mascara \n3:10 pm – Redhorse \n  \nSUN 12/21 \n12:30 pm – The Non Theater Kids \n1:10 pm – Granola \n1:50 pm – Little Rascals \n2:30 pm – Geebe
URL:https://bluebearmusic.org/event/all-star-band-showcase-at-music-city-2/
LOCATION:Music City\, 1353 Bush St.\, San Francisco\, CA\, 94109\, United States
END:VEVENT
BEGIN:VEVENT
DTSTART;TZID=America/Los_Angeles:20251220T123000
DTEND;TZID=America/Los_Angeles:20251220T160000
DTSTAMP:20260422T071511
CREATED:20251203T182314Z
LAST-MODIFIED:20251203T182314Z
UID:6794-1766233800-1766246400@bluebearmusic.org
SUMMARY:All Star Band Showcase at Music City
DESCRIPTION:SAT 12/20 \n12:30 pm – Numbskulls \n1:10 pm – Stranger Danger \n1:50 pm – Not Necessarily \n2:30 pm – Mascara \n3:10 pm – Redhorse \n  \nSUN 12/21 \n12:30 pm – The Non Theater Kids \n1:10 pm – Granola \n1:50 pm – Little Rascals \n2:30 pm – Geebe
URL:https://bluebearmusic.org/event/all-star-band-showcase-at-music-city/
LOCATION:Music City\, 1353 Bush St.\, San Francisco\, CA\, 94109\, United States
END:VEVENT
BEGIN:VEVENT
DTSTART;TZID=America/Los_Angeles:20251208T190000
DTEND;TZID=America/Los_Angeles:20251210T223000
DTSTAMP:20260422T071511
CREATED:20250221T233958Z
LAST-MODIFIED:20250221T233958Z
UID:6192-1765220400-1765405800@bluebearmusic.org
SUMMARY:Adult Band Showcase @ Music City
DESCRIPTION:
URL:https://bluebearmusic.org/event/adult-band-showcase-music-city-3/
LOCATION:Music City\, 1353 Bush St.\, San Francisco\, CA\, 94109\, United States
END:VEVENT
BEGIN:VEVENT
DTSTART;TZID=America/Los_Angeles:20251207T120000
DTEND;TZID=America/Los_Angeles:20251207T180000
DTSTAMP:20260422T071511
CREATED:20250930T202544Z
LAST-MODIFIED:20251001T204536Z
UID:6667-1765108800-1765130400@bluebearmusic.org
SUMMARY:Blue Bear Holiday Party and Sunset Campus Opening Party
DESCRIPTION:Drop In any time between 12pm and 6pm to enjoy some tacos\, share holiday cheer\, and see our new Sunset campus! \nBlue Bear Holiday Party 2025 \nThe address is 1383a 9th Avenue\, San Francisco CA
URL:https://bluebearmusic.org/event/blue-bear-holiday-party-and-sunset-campus-opening-party/
LOCATION:Blue Bear Sunset\, 1383a 9th Avenue\, San Francisco\, 94122\, United States
END:VEVENT
BEGIN:VEVENT
DTSTART;TZID=America/Los_Angeles:20251203T080000
DTEND;TZID=America/Los_Angeles:20251204T170000
DTSTAMP:20260422T071511
CREATED:20251007T201228Z
LAST-MODIFIED:20251007T201228Z
UID:6688-1764748800-1764867600@bluebearmusic.org
SUMMARY:DJ Showcase @ Monarch
DESCRIPTION:
URL:https://bluebearmusic.org/event/dj-showcase-monarch/
END:VEVENT
END:VCALENDAR